BEGIN:VCALENDAR
VERSION:2.0
PRODID:icalendar-ruby
CALSCALE:GREGORIAN
METHOD:PUBLISH
BEGIN:VEVENT
DTSTAMP:20260424T133652Z
UID:68-261685@epworthbethlehempa.org
DTSTART:20260508T220000Z
DTEND:20260509T000000Z
CLASS:PUBLIC
CREATED:20260415T103818
DESCRIPTION:Come join us for a potluck dinner from 5:30 - 6:00 pm followed 
 by a game night. Bring your own game if you like or simply play a game wit
 h friends. There are games for all ages!
LAST-MODIFIED:20260415T103818
LOCATION:Fellowship Hall
SUMMARY:Game Night
URL;VALUE=URI:https://www.epworthbethlehempa.org/events/game-night/2026-05-
 08
END:VEVENT
END:VCALENDAR
